BEGIN:VCALENDAR
VERSION:2.0
PRODID:-//Ropes Yoga - ECPv6.15.17//NONSGML v1.0//EN
CALSCALE:GREGORIAN
METHOD:PUBLISH
X-ORIGINAL-URL:https://www.ropes.yoga
X-WR-CALDESC:Events for Ropes Yoga
REFRESH-INTERVAL;VALUE=DURATION:PT1H
X-Robots-Tag:noindex
X-PUBLISHED-TTL:PT1H
BEGIN:VTIMEZONE
TZID:America/New_York
BEGIN:DAYLIGHT
TZOFFSETFROM:-0500
TZOFFSETTO:-0400
TZNAME:EDT
DTSTART:20180311T070000
END:DAYLIGHT
BEGIN:STANDARD
TZOFFSETFROM:-0400
TZOFFSETTO:-0500
TZNAME:EST
DTSTART:20181104T060000
END:STANDARD
BEGIN:DAYLIGHT
TZOFFSETFROM:-0500
TZOFFSETTO:-0400
TZNAME:EDT
DTSTART:20190310T070000
END:DAYLIGHT
BEGIN:STANDARD
TZOFFSETFROM:-0400
TZOFFSETTO:-0500
TZNAME:EST
DTSTART:20191103T060000
END:STANDARD
BEGIN:DAYLIGHT
TZOFFSETFROM:-0500
TZOFFSETTO:-0400
TZNAME:EDT
DTSTART:20200308T070000
END:DAYLIGHT
BEGIN:STANDARD
TZOFFSETFROM:-0400
TZOFFSETTO:-0500
TZNAME:EST
DTSTART:20201101T060000
END:STANDARD
END:VTIMEZONE
BEGIN:VEVENT
DTSTART;TZID=America/New_York:20190802T180000
DTEND;TZID=America/New_York:20190802T193000
DTSTAMP:20260422T094326
CREATED:20190705T015733Z
LAST-MODIFIED:20190705T020013Z
UID:2317-1564768800-1564774200@www.ropes.yoga
SUMMARY:Summer Series: On the Ropes!
DESCRIPTION:Join Tristan for an August treat! For three Friday evenings in a row we will have a special ropes series. Each 90-minute class includes a warm-up\, a focus on a different family of poses\, and a truly fabulous savasana. If you work during the day and have not been able to come to our weekly ropes classes\, this series is for you!Class size is limited\, so please register soon! If space is available\, drop-ins will be allowed. Cost: $55 for the 3-week seriesSign up: https://www.downunderyoga.com/boston-yoga-classes/yoga-workshops
URL:https://www.ropes.yoga/event/summer-series-on-the-ropes/
LOCATION:Down Under Yoga\, Brookline MA\, 1054 Beacon Street\, Brookline\, MA\, 02446\, United States
END:VEVENT
END:VCALENDAR