BEGIN:VCALENDAR
VERSION:2.0
PRODID:-//Ropes Yoga - ECPv6.15.17//NONSGML v1.0//EN
CALSCALE:GREGORIAN
METHOD:PUBLISH
X-WR-CALNAME:Ropes Yoga
X-ORIGINAL-URL:https://www.ropes.yoga
X-WR-CALDESC:Events for Ropes Yoga
REFRESH-INTERVAL;VALUE=DURATION:PT1H
X-Robots-Tag:noindex
X-PUBLISHED-TTL:PT1H
BEGIN:VTIMEZONE
TZID:America/New_York
BEGIN:DAYLIGHT
TZOFFSETFROM:-0500
TZOFFSETTO:-0400
TZNAME:EDT
DTSTART:20190310T070000
END:DAYLIGHT
BEGIN:STANDARD
TZOFFSETFROM:-0400
TZOFFSETTO:-0500
TZNAME:EST
DTSTART:20191103T060000
END:STANDARD
BEGIN:DAYLIGHT
TZOFFSETFROM:-0500
TZOFFSETTO:-0400
TZNAME:EDT
DTSTART:20200308T070000
END:DAYLIGHT
BEGIN:STANDARD
TZOFFSETFROM:-0400
TZOFFSETTO:-0500
TZNAME:EST
DTSTART:20201101T060000
END:STANDARD
BEGIN:DAYLIGHT
TZOFFSETFROM:-0500
TZOFFSETTO:-0400
TZNAME:EDT
DTSTART:20210314T070000
END:DAYLIGHT
BEGIN:STANDARD
TZOFFSETFROM:-0400
TZOFFSETTO:-0500
TZNAME:EST
DTSTART:20211107T060000
END:STANDARD
END:VTIMEZONE
BEGIN:VEVENT
DTSTART;TZID=America/New_York:20201017T120000
DTEND;TZID=America/New_York:20201017T140000
DTSTAMP:20260423T023638
CREATED:20201007T213120Z
LAST-MODIFIED:20201007T213130Z
UID:5497-1602936000-1602943200@www.ropes.yoga
SUMMARY:Ropes at Home
DESCRIPTION:If you have yoga wall ropes at home and want some inspiration for your practice during these days of confinement\, join Tristan for a 2 hour ropes workshop. She will plan a sequence that moves through most of the pose families and allows for the different kinds of ropes set ups we have at home. The sequence notes will be emailed after the workshop so you can use them in your own practice going forward and won’t have to stop and take notes as we go along. If you are regularly practicing rope sirsasana\, it will be included\, but we do not want anyone to try any new suspended poses during this workshop. Tristan is assuming you have ropes experience to join this workshop – it is definitely not suitable for newcomers to ropes. If you have questions\, injuries\, or an unusual ropes set up\, please let Tristan know beforehand through email: tristanyoga@gmail.com. \n\n\n\nTristan will allow some time at the beginning and end of the workshop for Q&A\, about specific ropes asana questions as well as questions about your ropes set ups.  \n\n\n\nCost $35 \n\n\n\n  https://www.downunderyoga.com/special-events-listing/ropes-at-home-with-tristan-binns-abdsf
URL:https://www.ropes.yoga/event/ropes-at-home/
END:VEVENT
END:VCALENDAR