BEGIN:VCALENDAR
VERSION:2.0
PRODID:-//Ropes Yoga - ECPv6.15.17//NONSGML v1.0//EN
CALSCALE:GREGORIAN
METHOD:PUBLISH
X-ORIGINAL-URL:https://www.ropes.yoga
X-WR-CALDESC:Events for Ropes Yoga
REFRESH-INTERVAL;VALUE=DURATION:PT1H
X-Robots-Tag:noindex
X-PUBLISHED-TTL:PT1H
BEGIN:VTIMEZONE
TZID:America/New_York
BEGIN:DAYLIGHT
TZOFFSETFROM:-0500
TZOFFSETTO:-0400
TZNAME:EDT
DTSTART:20180311T070000
END:DAYLIGHT
BEGIN:STANDARD
TZOFFSETFROM:-0400
TZOFFSETTO:-0500
TZNAME:EST
DTSTART:20181104T060000
END:STANDARD
BEGIN:DAYLIGHT
TZOFFSETFROM:-0500
TZOFFSETTO:-0400
TZNAME:EDT
DTSTART:20190310T070000
END:DAYLIGHT
BEGIN:STANDARD
TZOFFSETFROM:-0400
TZOFFSETTO:-0500
TZNAME:EST
DTSTART:20191103T060000
END:STANDARD
BEGIN:DAYLIGHT
TZOFFSETFROM:-0500
TZOFFSETTO:-0400
TZNAME:EDT
DTSTART:20200308T070000
END:DAYLIGHT
BEGIN:STANDARD
TZOFFSETFROM:-0400
TZOFFSETTO:-0500
TZNAME:EST
DTSTART:20201101T060000
END:STANDARD
END:VTIMEZONE
BEGIN:VEVENT
DTSTART;TZID=America/New_York:20190709T140000
DTEND;TZID=America/New_York:20190709T160000
DTSTAMP:20260422T045734
CREATED:20190705T022726Z
LAST-MODIFIED:20190705T163017Z
UID:2996-1562680800-1562688000@www.ropes.yoga
SUMMARY:Advanced Ropes\, Tristan in Brookline\, every other month
DESCRIPTION:Taught by Tristan Binns. This two-hour Ropes class is intended for students who have taken at least 10 Ropes classes (or have permission from the instructor).
URL:https://www.ropes.yoga/event/advanced-ropes-tristan-in-brookline-every-other-month/
LOCATION:Down Under Yoga\, Brookline MA\, 1054 Beacon Street\, Brookline\, MA\, 02446\, United States
END:VEVENT
BEGIN:VEVENT
DTSTART;TZID=America/New_York:20190726T180000
DTEND;TZID=America/New_York:20190727T123000
DTSTAMP:20260422T045734
CREATED:20190704T175713Z
LAST-MODIFIED:20190704T182426Z
UID:2283-1564164000-1564230600@www.ropes.yoga
SUMMARY:Learning the Ropes Workshops at Iyengar Yoga North
DESCRIPTION:Beginners / Level I: Friday\, July 26\, 6-7:30pm\, $35Intermediate: Saturday\, July 27\, 10:30am-12:30pm\, $40 \n\n\n\nJoin Tristan Boyer Binns\, CIYT and ropes specialist\, for a weekend of workshops all about learning to use the wall ropes to enhance your yoga practice. Friday is a gentle introduction suitable for Level 1 yoga students. Saturday is more intense\, so have a well-established yoga practice. No ropes experience is necessary for either workshop! Tristan is the author of Yoga Kurunta: Learning the Ropes and head of the Boston Yoga Ropes Collective. She teaches weekly ropes classes and monthly ropes workshops in Boston. \n\n\n\nSign up by emailing Rose at iyengaryoganorth@gmail.com Make checks payable to Rose Goldblatt. \n\n\nIyengar-Yoga-North-Workshop-2
URL:https://www.ropes.yoga/event/learning-the-ropes-workshops-at-iyengar-yoga-north/
LOCATION:Iyengar Yoga North\, 216 Grove Street\, Littleton\, NH\, 03561\, United States
ORGANIZER;CN="Iyengar Yoga North":MAILTO:iyengaryoganorth@gmail.com
END:VEVENT
END:VCALENDAR