BEGIN:VCALENDAR
VERSION:2.0
PRODID:-//Ropes Yoga - ECPv6.15.17//NONSGML v1.0//EN
CALSCALE:GREGORIAN
METHOD:PUBLISH
X-ORIGINAL-URL:https://www.ropes.yoga
X-WR-CALDESC:Events for Ropes Yoga
REFRESH-INTERVAL;VALUE=DURATION:PT1H
X-Robots-Tag:noindex
X-PUBLISHED-TTL:PT1H
BEGIN:VTIMEZONE
TZID:America/New_York
BEGIN:DAYLIGHT
TZOFFSETFROM:-0500
TZOFFSETTO:-0400
TZNAME:EDT
DTSTART:20180311T070000
END:DAYLIGHT
BEGIN:STANDARD
TZOFFSETFROM:-0400
TZOFFSETTO:-0500
TZNAME:EST
DTSTART:20181104T060000
END:STANDARD
BEGIN:DAYLIGHT
TZOFFSETFROM:-0500
TZOFFSETTO:-0400
TZNAME:EDT
DTSTART:20190310T070000
END:DAYLIGHT
BEGIN:STANDARD
TZOFFSETFROM:-0400
TZOFFSETTO:-0500
TZNAME:EST
DTSTART:20191103T060000
END:STANDARD
BEGIN:DAYLIGHT
TZOFFSETFROM:-0500
TZOFFSETTO:-0400
TZNAME:EDT
DTSTART:20200308T070000
END:DAYLIGHT
BEGIN:STANDARD
TZOFFSETFROM:-0400
TZOFFSETTO:-0500
TZNAME:EST
DTSTART:20201101T060000
END:STANDARD
END:VTIMEZONE
BEGIN:VEVENT
DTSTART;TZID=America/New_York:20191207T100000
DTEND;TZID=America/New_York:20191207T120000
DTSTAMP:20260422T131158
CREATED:20190923T161454Z
LAST-MODIFIED:20190927T124010Z
UID:3384-1575712800-1575720000@www.ropes.yoga
SUMMARY:Beginning Ropes Workshop
DESCRIPTION:Join Tristan Boyer Binns\, CIYT and ropes specialist\, for a day of workshops all about learning to use the wall ropes to enhance your yoga practice. The morning is a gentle introduction suitable for Level 1 yoga students. The afternoon is more intense\, so have a well-established yoga practice. No ropes experience is necessary for either workshop!
URL:https://www.ropes.yoga/event/beginning-ropes-workshop/
LOCATION:Ancient Healing Arts Yoga\, White River Junction\, VT\, United States
ORGANIZER;CN="Kerry Doyle":MAILTO:info@ahayoga.com
END:VEVENT
BEGIN:VEVENT
DTSTART;TZID=America/New_York:20191207T133000
DTEND;TZID=America/New_York:20191207T160000
DTSTAMP:20260422T131158
CREATED:20190927T123845Z
LAST-MODIFIED:20190927T123847Z
UID:3401-1575725400-1575734400@www.ropes.yoga
SUMMARY:Intermediate Ropes Workshop at AHA Yoga
DESCRIPTION:Join Tristan Boyer Binns\, CIYT and ropes specialist\, for a day of workshops all about learning to use the wall ropes to enhance your yoga practice. The morning is a gentle introduction suitable for Level 1 yoga students. The afternoon is more intense\, so have a well-established yoga practice. No ropes experience is necessary for either workshop!
URL:https://www.ropes.yoga/event/intermediate-ropes-workshop-at-aha-yoga/
LOCATION:Ancient Healing Arts Yoga\, White River Junction\, VT\, United States
ORGANIZER;CN="Kerry Doyle":MAILTO:info@ahayoga.com
END:VEVENT
END:VCALENDAR