BEGIN:VCALENDAR
VERSION:2.0
PRODID:-//Ropes Yoga - ECPv6.15.17//NONSGML v1.0//EN
CALSCALE:GREGORIAN
METHOD:PUBLISH
X-WR-CALNAME:Ropes Yoga
X-ORIGINAL-URL:https://www.ropes.yoga
X-WR-CALDESC:Events for Ropes Yoga
REFRESH-INTERVAL;VALUE=DURATION:PT1H
X-Robots-Tag:noindex
X-PUBLISHED-TTL:PT1H
BEGIN:VTIMEZONE
TZID:America/New_York
BEGIN:DAYLIGHT
TZOFFSETFROM:-0500
TZOFFSETTO:-0400
TZNAME:EDT
DTSTART:20190310T070000
END:DAYLIGHT
BEGIN:STANDARD
TZOFFSETFROM:-0400
TZOFFSETTO:-0500
TZNAME:EST
DTSTART:20191103T060000
END:STANDARD
BEGIN:DAYLIGHT
TZOFFSETFROM:-0500
TZOFFSETTO:-0400
TZNAME:EDT
DTSTART:20200308T070000
END:DAYLIGHT
BEGIN:STANDARD
TZOFFSETFROM:-0400
TZOFFSETTO:-0500
TZNAME:EST
DTSTART:20201101T060000
END:STANDARD
BEGIN:DAYLIGHT
TZOFFSETFROM:-0500
TZOFFSETTO:-0400
TZNAME:EDT
DTSTART:20210314T070000
END:DAYLIGHT
BEGIN:STANDARD
TZOFFSETFROM:-0400
TZOFFSETTO:-0500
TZNAME:EST
DTSTART:20211107T060000
END:STANDARD
END:VTIMEZONE
BEGIN:VEVENT
DTSTART;TZID=America/New_York:20200117T180000
DTEND;TZID=America/New_York:20200118T123000
DTSTAMP:20260422T150638
CREATED:20191115T153844Z
LAST-MODIFIED:20191220T153908Z
UID:3514-1579284000-1579350600@www.ropes.yoga
SUMMARY:Ropes Workshops at Iyengar Yoga North
DESCRIPTION:Join Tristan Boyer Binns\, CIYT and ropes specialist\, for a weekend of workshops building on your current ability to use the wall ropes to enhance your yoga practice. Friday is a more gentle approach\, suitable for Level 1 yoga students. Saturday is more intense\, so have a well-established yoga practice. No ropes experience is necessary for either day. Bring your questions! Tristan is the author of Yoga Kurunta: Learning the Ropes and head of the Boston Yoga Ropes Collective. She teaches in Boston. 
URL:https://www.ropes.yoga/event/ropes-workshops-at-iyengar-yoga-north/
LOCATION:Iyengar Yoga North\, 216 Grove Street\, Littleton\, NH\, 03561\, United States
ATTACH;FMTTYPE=image/jpeg:https://www.ropes.yoga/wp-content/uploads/2019/11/fullsizeoutput_8108.jpeg
ORGANIZER;CN="Iyengar Yoga North":MAILTO:iyengaryoganorth@gmail.com
END:VEVENT
END:VCALENDAR